BEGIN:VCALENDAR
VERSION:2.0
PRODID:-//Community Action for a Sustainable Alameda (CASA) - ECPv6.15.18//NONSGML v1.0//EN
CALSCALE:GREGORIAN
METHOD:PUBLISH
X-WR-CALNAME:Community Action for a Sustainable Alameda (CASA)
X-ORIGINAL-URL:https://casa-alameda.org
X-WR-CALDESC:Events for Community Action for a Sustainable Alameda (CASA)
REFRESH-INTERVAL;VALUE=DURATION:PT1H
X-Robots-Tag:noindex
X-PUBLISHED-TTL:PT1H
BEGIN:VTIMEZONE
TZID:America/Los_Angeles
BEGIN:DAYLIGHT
TZOFFSETFROM:-0800
TZOFFSETTO:-0700
TZNAME:PDT
DTSTART:20210314T100000
END:DAYLIGHT
BEGIN:STANDARD
TZOFFSETFROM:-0700
TZOFFSETTO:-0800
TZNAME:PST
DTSTART:20211107T090000
END:STANDARD
BEGIN:DAYLIGHT
TZOFFSETFROM:-0800
TZOFFSETTO:-0700
TZNAME:PDT
DTSTART:20220313T100000
END:DAYLIGHT
BEGIN:STANDARD
TZOFFSETFROM:-0700
TZOFFSETTO:-0800
TZNAME:PST
DTSTART:20221106T090000
END:STANDARD
BEGIN:DAYLIGHT
TZOFFSETFROM:-0800
TZOFFSETTO:-0700
TZNAME:PDT
DTSTART:20230312T100000
END:DAYLIGHT
BEGIN:STANDARD
TZOFFSETFROM:-0700
TZOFFSETTO:-0800
TZNAME:PST
DTSTART:20231105T090000
END:STANDARD
END:VTIMEZONE
BEGIN:VEVENT
DTSTART;TZID=America/Los_Angeles:20220813T100000
DTEND;TZID=America/Los_Angeles:20220813T120000
DTSTAMP:20260421T051533
CREATED:20220415T083326Z
LAST-MODIFIED:20241028T051052Z
UID:5499-1660384800-1660392000@casa-alameda.org
SUMMARY:Monthly Coastal Cleanup
DESCRIPTION:Join the San Francisco Bay Hope Spot champions and let’s clean up the Beach! Meet at Waterfront Park at the Sea Plane Lagoon (1801 Ferry Point\, Alameda\, CA 94501). Buckets & pickers provided. \nPlan to join us monthly on the second Saturday of the month. Rain cancels! \n			\n				\n				\n				\n				\n				Riding your bike? Great! It’s right at the western end of the Cross Alameda Trail\, and there’s plenty of bike parking available. \n			\n				\n				\n				\n				\n				https://casa-alameda.org/coastal-clean-up
URL:https://casa-alameda.org/event/monthly-coastal-cleanup
LOCATION:Waterfront Park\, 1801 Ferry Point\, Alameda\, CA\, 94501\, United States
ORGANIZER;CN="Community Action for a Sustainable Alameda (CASA)":MAILTO:info@casa-alameda.org
END:VEVENT
END:VCALENDAR